BEGIN:VCALENDAR
VERSION:2.0
PRODID:-//Kundalini Yoga - Las Vegas - ECPv6.7.0//NONSGML v1.0//EN
CALSCALE:GREGORIAN
METHOD:PUBLISH
X-ORIGINAL-URL:https://allkundalini.com
X-WR-CALDESC:Events for Kundalini Yoga - Las Vegas
REFRESH-INTERVAL;VALUE=DURATION:PT1H
X-Robots-Tag:noindex
X-PUBLISHED-TTL:PT1H
BEGIN:VTIMEZONE
TZID:UTC
BEGIN:STANDARD
TZOFFSETFROM:+0000
TZOFFSETTO:+0000
TZNAME:UTC
DTSTART:20240101T000000
END:STANDARD
END:VTIMEZONE
BEGIN:VEVENT
DTSTART;TZID=UTC:20241011T173000
DTEND;TZID=UTC:20241011T183000
DTSTAMP:20260421T004355
CREATED:20241001T235358Z
LAST-MODIFIED:20241002T000913Z
UID:1411-1728667800-1728671400@allkundalini.com
SUMMARY:Community Nature Walk
DESCRIPTION:We Meet at 5:15 pm and the nature walk starts at 5:30 pm.\n(Donation Based)
URL:https://allkundalini.com/event/community-nature-walk/
LOCATION:Calico Basin\, Calico Basin\, Las Vegas\, nv\, 89161\, United States
END:VEVENT
END:VCALENDAR