BEGIN:VCALENDAR
VERSION:2.0
PRODID:-//Kundalini Yoga - Las Vegas - ECPv6.7.0//NONSGML v1.0//EN
CALSCALE:GREGORIAN
METHOD:PUBLISH
X-ORIGINAL-URL:https://allkundalini.com
X-WR-CALDESC:Events for Kundalini Yoga - Las Vegas
REFRESH-INTERVAL;VALUE=DURATION:PT1H
X-Robots-Tag:noindex
X-PUBLISHED-TTL:PT1H
BEGIN:VTIMEZONE
TZID:UTC
BEGIN:STANDARD
TZOFFSETFROM:+0000
TZOFFSETTO:+0000
TZNAME:UTC
DTSTART:20240101T000000
END:STANDARD
END:VTIMEZONE
BEGIN:VEVENT
DTSTART;TZID=UTC:20241102T090000
DTEND;TZID=UTC:20241102T120000
DTSTAMP:20260420T213010
CREATED:20241002T001525Z
LAST-MODIFIED:20241002T001551Z
UID:1420-1730538000-1730548800@allkundalini.com
SUMMARY:Hot Springs Hike
DESCRIPTION:(Donation Based)
URL:https://allkundalini.com/event/hot-springs-hike/
LOCATION:Goldstrike Hot Springs Trail Head\, Goldstrike 601 Great Basin Hwy\, Boulder City\, NV\, 89005\, United States
END:VEVENT
BEGIN:VEVENT
DTSTART;TZID=UTC:20241117T180000
DTEND;TZID=UTC:20241117T200000
DTSTAMP:20260420T213010
CREATED:20241002T040539Z
LAST-MODIFIED:20241002T040539Z
UID:1429-1731866400-1731873600@allkundalini.com
SUMMARY:Full Moon Ceremony
DESCRIPTION:Tickets $55
URL:https://allkundalini.com/event/full-moon-ceremony/
LOCATION:Night Owl Collective\, 4465 W. Sunset Rd.\, Las Vegas\, NV\, 89118\, United States
END:VEVENT
BEGIN:VEVENT
DTSTART;TZID=UTC:20241123T140000
DTEND;TZID=UTC:20241123T160000
DTSTAMP:20260420T213010
CREATED:20241002T040822Z
LAST-MODIFIED:20241002T040822Z
UID:1434-1732370400-1732377600@allkundalini.com
SUMMARY:FriendsGiving
DESCRIPTION:
URL:https://allkundalini.com/event/friendsgiving/
END:VEVENT
END:VCALENDAR